BEGIN:VCALENDAR
VERSION:2.0
PRODID:-//Tukios.com/
BEGIN:VEVENT
UID:799519cd-8cd4-4117-ab5b-069c2e7255c7@www.ericmdbellfuneralhome.com
DTSTAMP:20260425T213346Z
DTSTART:20260501T160000Z
DTEND:20260501T170000Z
SUMMARY:Funeral Service
DESCRIPTION:
URL:https://www.ericmdbellfuneralhome.com/obituaries/david-williams
LOCATION: 220 North Maple Street  Pittsboro IN 46167
GEO:39.8664131;-86.4667631
END:VEVENT
END:VCALENDAR