BEGIN:VCALENDAR
VERSION:2.0
PRODID:-//Tukios.com/
BEGIN:VEVENT
UID:97c2c2b7-1913-42a3-8668-89906e7b30bb@www.ericmdbellfuneralhome.com
DTSTAMP:20260425T213522Z
DTSTART:20260501T140000Z
DTEND:20260501T160000Z
SUMMARY:Visitation
DESCRIPTION:
URL:https://www.ericmdbellfuneralhome.com/obituaries/david-williams
LOCATION: 220 North Maple Street  Pittsboro IN 46167
GEO:39.8664131;-86.4667631
END:VEVENT
END:VCALENDAR