BEGIN:VCALENDAR
VERSION:2.0
PRODID:-//Tukios.com/
BEGIN:VEVENT
UID:9c04f185-09e9-4931-b4de-126d24da1e4a@www.ericmdbellfuneralhome.com
DTSTAMP:20260425T141908Z
DTSTART:20260425T180000Z
DTEND:20260425T190000Z
SUMMARY:Celebration of Life
DESCRIPTION:
URL:https://www.ericmdbellfuneralhome.com/obituaries/anne-bakos
LOCATION:Woodland Terrace of Danville 200 Arbor Lane  Danville IN 46122
GEO:39.7602027;-86.480672
END:VEVENT
END:VCALENDAR